Workbook

Sheet Hoja1
A1: Información General de la actividad | J1: Información para tiquetes aéreos | T1: Información para hospedaje | X1: Información para refrigerios | AC1: Información para almuerzos | AG1: Información para transporte terrestre | AM1: Información para transporte multimodal | AS1: Información para salones
A2: Responsable de la actividad | B2: Nombre de la Actividad | C2: Requiere tiquetes aéreos | D2: Requiere Hospedaje | E2: Requiere alimentación | F2: Requiere refrigerios | G2: Requiere transporte terrestre | H2: Requiere transporte multimodal | I2: Requiere salón | J2: Nombre del participante (como aparece en el pasaporte) o en la CC Colombiana | K2: Número de pasaporte | L2: Aeropuerto de origen | M2: Fecha inicio viaje | N2: Horario de preferencia del viaje | O2: Aeropuerto de destino | P2: Fecha finalización viaje | Q2: Horario de preferencia del viaje | R2: Tiene visa americana | S2: Tiene visa requerida del país de destino | T2: Nombres y apellidos como aparece en el pasaporte o en la CC Colombiana | U2: Número de pasaporte | V2: Fecha de llegada al hotel | W2: Fecha de salida del hotel | X2: Ciudad de entrega de los refigerios | Y2: Número de refigerios AM | Z2: Número de refrigerios PM | AA2: Dirección de entrega de los refrigerios | AB2: Datos de contacto de la persona que recibe los refrigerios | AC2: Ciudad de entrega de los almuerzos | AD2: Número de almuerzos | AE2: Dirección de entrega de los almuerzos | AF2: Datos de contacto de la persona que recibe los almuerzos | AG2: Nombre de la persona líder de la misión | AH2: Dirección de recogida a.m. | AI2: Hora de recogida a.m. | AJ2: Dirección de destino | AK2: Hora de regreso p.m | AL2: Datos de contaco de la persona lider de la misión | AM2: Nombre de la persona líder de la misión | AN2: Tipo de transporte requerido | AO2: Ciudad de Origen | AP2: Fecha de viaje | AQ2: Hora de viaje | AR2: Ciudad de destino | AS2: Ciudad de la actividad | AT2: Fecha de Inicio | AU2: Fecha de Fin | AV2: Número de personas para el salon | AW2: Formato Requerido para el salón (espina de pescado, aula, auditorio etc) | AX2: Apoyos tecnológicos requeridos (Microfonos, video beam, computadores, etc)

Sheet Hoja4
A1: Oferta
A2: DCI
C8: Regrigerio | G8: SI
C9: Almuerzo | G9: NO
C10: Cena
C11: Desayuno
J13: SI
J14: NO

Sheet Información General
A1: INFORMACIÓN GENERAL DE LA ACTIVIDAD
A2: NOMBRE DEL PROYECTO | B2: Identidad Visual
A3: NOMBRE DE LA ACTIVIDAD | B3: Identidad Visual
A4: RESPONSABLE EN APC COLOMBIA | B4: Paola Casallas, Felipe Rodríguez Ríos
A5: ÁREA MISIONAL APC COLOMBIA | B5: Dirección general, Comunicaciones
A6: PAÍS DESARROLLO DE LA ACTIVIDAD | B6: Colombia
A7: PAÍS AL CUAL SE DEBE CARGAR EL PRESUPUESTO DE LA ACTIVIDAD
A8: CIUDAD/ES DE DESARROLLO DE LA ACTIVIDAD | B8: Bogotá
A9: TIPO DE REQUERIMIENTO (TIQUETES, TRANSPORTE, HOSPEDAJE, ALIMENTACIÓN, MATERIAL PUBLICITARIO, INSTALACIONES, OTROS SERVICIOS) | B9: Materiales e impresos
A10: NÚMERO DE PARTICIPANTES
A11: FECHA DE INICIO DE ACTIVIDAD | B11: 46304
A12: FECHA DE CIERRE DE ACTIVIDAD | B12: 46311

Sheet TiquetesAéreos
A1: FORMATO DE SOLICITUD LOGÍSTICA
A2: Nombre de la actividad | C2: ='Información General'!B3 -> Identidad Visual
A3: Responsable | C3: ='Información General'!B4 -> Paola Casallas, Felipe Rodríguez Ríos
A4: Área misional | C4: ='Información General'!B5 -> Dirección general, Comunicaciones
A5: Lugar de desarrollo de la actividad | C5: ='Información General'!B8 -> Bogotá
A6: Número de participantes | C6: =+A39 -> 0
A8: TIQUETES AÉREOS
A9: DATOS PERSONALES | I9: NACIONALIDAD | J9: NACIONAL/ INTERNACIONAL | K9: ITINERARIO | N9: OBSERVACIONES
A10: CONSECUTIVO | B10: NOMBRE COMPLETO | C10: MUNICIPIO | D10: CARGO | E10: CEDULA / PASAPORTE | F10: No. TELEFONICO | G10: ¿ CUENTA CON EL ESQUEMA DE VACUNACIÓN ? | H10: CORREO ELECTRÓNICO | K10: FECHA SALIDA | L10: DESDE | M10: HASTA | N10: OBSERVACIONES VISA | O10: OBSERVACIONES RESTRICCIONES | P10: OBSERVACIONES MISIÓN
A54: 1. Para los recorridos de ida y vuelta, por favor diligenciar en una fila la ida y en la siguiente fila el recorrido de vuelta, para cada uno de los pasajeros

Sheet Hospedaje
B1: FORMATO DE SOLICITUD LOGÍSTICA
A2: Nombre de la actividad | C2: ='Información General'!B3 -> Identidad Visual
A3: Responsable | C3: ='Información General'!B4 -> Paola Casallas, Felipe Rodríguez Ríos
A4: Área misional | C4: ='Información General'!B5 -> Dirección general, Comunicaciones
A5: Lugar de desarrollo de la actividad | C5: ='Información General'!B8 -> Bogotá
A6: Número de participantes | C6: =+A23 -> 0
A8: ALOJAMIENTOS
A9: CONSECUTIVO | B9: NOMBRES Y APELLIDOS (como aparece en el documento de identificación que utilizará para el viaje) | C9: CÉDULA/PASAPORTE | D9: TÉLEFONO | E9: CIUDAD DE HOSPEDAJE | F9: FECHA DE INGRESO | G9: FECHA DE SALIDA | R9: LUGAR DE REALIZACIÓN DE LA ACTIVIDAD | S9: OBSERVACIONES
A29: 9
A30: ma
A31: =A28+A29 -> 9
C34: =_xlfn.TEXTJOIN("/", TRUE,B10:B23)
C35: Juan de Dios Chaverra/Walter Prieto Loaiza/Elkin Einstein Cuesta Valdéz/Oswaldo Danilo Chiran Erazo/Santiago Dussan/Viviana Patricia Alvarez/Kelly Andrea García Arias/Diego Jaramillo Porto/María Antonia Betancur Restrepo /Mauricio Restrepo Cardona/Susana Gómez/Julio Moreno Rangel/Enrique Maruri/Giovanni Rodríguez

Sheet Alimentación 
B1: FORMATO DE SOLICITUD LOGÍSTICA
A2: Nombre de la actividad: | C2: ='Información General'!B3 -> Identidad Visual
A3: Responsable | C3: ='Información General'!B4 -> Paola Casallas, Felipe Rodríguez Ríos
A4: Área misional | C4: ='Información General'!B5 -> Dirección general, Comunicaciones
A5: Lugar de desarrollo de la actividad | C5: ='Información General'!B8 -> Bogotá
A6: Número de participantes | C6: =+E13 -> 0
A8: ALIMENTACIÓN
A9: CONSECUTIVO | B9: NOMBRES Y APELLIDOS | C9: ALIMENTACIÓN | D9: TIPO DE SERVICIO | E9: CANTIDAD | F9: FECHA DE ENTREGA | G9: HORA DE ENTREGA | H9: CIUDAD DE ENTREGA | I9: LUGAR DE ENTREGA | J9: DATOS DE QUIEN RECIBE | K9: OBSERVACIONES

Sheet Transporte
A1: FORMATO DE SOLICITUD LOGÍSTICA
A2: Nombre de la actividad | D2: ='Información General'!B3 -> Identidad Visual
A3: Responsable | D3: ='Información General'!B4 -> Paola Casallas, Felipe Rodríguez Ríos
A4: Área misional | D4: ='Información General'!B5 -> Dirección general, Comunicaciones
A5: Lugar de desarrollo de la actividad | D5: ='Información General'!B8 -> Bogotá
A6: Número de participantes | D6: =+F11 -> 0
A8: CONSECUTIVO | B8: NOMBRE COMPLETO | C8: TIPO DE TRANSPORTE | D8: FECHA SALIDA | E8: HORA DE SALIDA | F8: CANTIDAD DE PERSONAS | G8: DESDE | H8: HASTA | I8: OBSERVACIONES

Sheet Instalaciones
A1: FORMATO DE SOLICITUD LOGÍSTICA
A3: Nombre de la actividad | C3: ='Información General'!B3 -> Identidad Visual
A4: Responsable | C4: ='Información General'!B4 -> Paola Casallas, Felipe Rodríguez Ríos
A5: Área misional | C5: ='Información General'!B5 -> Dirección general, Comunicaciones
A6: Lugar de desarrollo de la actividad | C6: ='Información General'!B8 -> Bogotá
A8: DESCRIPCIÓN | B8: CIUDAD | C8: FECHA | D8: HORA DE INICIO | E8: HORA DE FINALIZACIÓN | F8: CANTIDAD DE PERSONAS | G8: ACCESIBILIDAD PARA PERSONAS CON DISCAPACIDAD | H8: ¿ QUÉ TIPO DE APOYO TECNOLÓGICO REQUIERE? (Microfonos, video beam, computadores, etc) | I8: OBSERVACIONES
A31: Logística: No. personas, hora inicio y final, descripción de las funciones a desempeñar, con o sin hidratación, con o sin alimentación, si requiere que el personal logístico esté en montaje y desmontaje, si requiere taquilla, comercialización de stand, recaudo de fondos, personal bilingüe para acompañar personal internacional.
A32: Registro: No. personas, cantidad computadores e impresoras, hora inicial y final, si requieren impresión de escarapelas, creación y/o actualización de base de datos, firma digital, línea de atención, código de barras, certificado de asistencia, certficado de cumplimiento, entrega de material.
A35: LISTA DE SELECCIÓN
A36: Auditorio
A37: Salon
A38: Restaurante

Sheet Otros_Servicios
A1: FORMATO DE SOLICITUD LOGÍSTICA
A2: Nombre de la actividad | B2: ='Información General'!B3 -> Identidad Visual
A3: Responsable | B3: ='Información General'!B4 -> Paola Casallas, Felipe Rodríguez Ríos
A4: Área misional | B4: ='Información General'!B5 -> Dirección general, Comunicaciones
A5: Lugar de desarrollo de la actividad | B5: ='Información General'!B8 -> Bogotá
A7: OTROS BIENES O SERVICIOS REQUERIDOS
A8: BIEN O SERVICIO | B8: DESCRIPCIÓN | C8: CANTIDAD | D8: OBSERVACIONES / JUSTIFICACIÓN

Sheet CHECKLIST
A3: PRE-EVENTO
A4: Diseño e imagen del evento
A5: Creación del nombre del evento
A6: Diseño de imagen del evento, campaña gráfica
A7: Diseño del logo del evento
A8: Diseño y preprensa del Material Publicitario
A9: Avisos de prensa y revistas
A10: Backing
A11: Camisetas
A12: Carpeta
A13: Certificados
A14: Encabezado Correo Electrónico
... A159: Sitios que desea visitar:

Sheet Materiales e impresos
A1: FORMATO DE SOLICITUD LOGÍSTICA
A3: Nombre de la actividad: | B3: ='Información General'!B3 -> Identidad Visual
A4: Responsable | B4: ='Información General'!B4 -> Paola Casallas, Felipe Rodríguez Ríos
A5: Área misional | B5: ='Información General'!B5 -> Dirección general, Comunicaciones
A6: Lugar de desarrollo de la actividad | B6: ='Información General'!B8 -> Bogotá
A8: MATERIALES E IMPRESOS
A9: PRODUCTO | B9: CANTIDAD | C9: TAMAÑO / MATERIAL | D9: TINTAS | E9: OBSERVACIÓN / JUSTIFICACIÓN
A10: Impresión de adhesiv de montaje doble cara | B10: 2 | C10: 149,6 cm de ancho X 107,5 de alto | D10: Full Color | E10: Nosotros tenemos los vidrios se necesita la impresión, limpieza de los vidrios que tenemos, pegar los nuevos e instalarlos en la pared de nuevo.
A11: Impresión en papel propalcote | B11: 1 | C11: 50 cm de ancho X 70 cm de alto | D11: Full Color | E11: Impresión de la foto del presidente Abelardo De La Espriella
A12: Portaretratos en madera | B12: 1 | C12: Para poner la foto de arriba | D12: Café | E12: Porta retratos similar al anterior en que se pueda poner la foto impresa que se menciona
A22: NOTA IMPORTANTE: Recuerde por favor adjuntar el arte de cada pieza solicitada en formato ai, jpg y/o curvas, con el fin de evitar retrazos en el proceso de cotización. Si son camisas o chalecos, favor indicar las tallas requeridas.
